BEGIN:VCALENDAR
VERSION:2.0
PRODID:-//Hockey-Club Villingen e.V. - ECPv6.15.20//NONSGML v1.0//EN
CALSCALE:GREGORIAN
METHOD:PUBLISH
X-ORIGINAL-URL:https://hc-villingen.de
X-WR-CALDESC:Veranstaltungen für Hockey-Club Villingen e.V.
REFRESH-INTERVAL;VALUE=DURATION:PT1H
X-Robots-Tag:noindex
X-PUBLISHED-TTL:PT1H
BEGIN:VTIMEZONE
TZID:Europe/Berlin
BEGIN:DAYLIGHT
TZOFFSETFROM:+0100
TZOFFSETTO:+0200
TZNAME:CEST
DTSTART:20240331T010000
END:DAYLIGHT
BEGIN:STANDARD
TZOFFSETFROM:+0200
TZOFFSETTO:+0100
TZNAME:CET
DTSTART:20241027T010000
END:STANDARD
BEGIN:DAYLIGHT
TZOFFSETFROM:+0100
TZOFFSETTO:+0200
TZNAME:CEST
DTSTART:20250330T010000
END:DAYLIGHT
BEGIN:STANDARD
TZOFFSETFROM:+0200
TZOFFSETTO:+0100
TZNAME:CET
DTSTART:20251026T010000
END:STANDARD
BEGIN:DAYLIGHT
TZOFFSETFROM:+0100
TZOFFSETTO:+0200
TZNAME:CEST
DTSTART:20260329T010000
END:DAYLIGHT
BEGIN:STANDARD
TZOFFSETFROM:+0200
TZOFFSETTO:+0100
TZNAME:CET
DTSTART:20261025T010000
END:STANDARD
END:VTIMEZONE
BEGIN:VEVENT
DTSTART;TZID=Europe/Berlin:20251108T100000
DTEND;TZID=Europe/Berlin:20251109T170000
DTSTAMP:20260420T111223
CREATED:20250828T113528Z
LAST-MODIFIED:20250828T120455Z
UID:2181-1762596000-1762707600@hc-villingen.de
SUMMARY:Adlercup 2025
DESCRIPTION:Zum vierten Mal in Folge findet unser Adlercup statt – das Hallenvorbereitungsturnier für Mannschaften der Altersklasse U8 – U14. Am Samstag sind die Altersklassen U8 und U10 dran\, Sonntag dann U12 und U14.\nAm Sonntag wird ebenfalls unser Partner OurHockey vor Ort sein\, damit ihr euch pünktlich zur Hallenrunde mit Hockeyartikeln ausstatten könnt. \nFalls ihr mit eurem Team beim Adlercup teilnehmen wollt\, dann könnt ihr euch bis zum 19.09.25 per Mail an kathifurtwaengler@hc-villingen.de anmelden. \nWir freuen uns auf euch!
URL:https://hc-villingen.de/event/adlercup-2025/
LOCATION:Hoptbühlhalle\, Stationenweg 2\, VS-Villingen\, 78048\, Germany
ATTACH;FMTTYPE=application/pdf:https://hc-villingen.de/wp-content/uploads/2025/08/2025_HCV_Einladung-Adlercup.pdf
END:VEVENT
BEGIN:VEVENT
DTSTART;TZID=Europe/Berlin:20251128T160000
DTEND;TZID=Europe/Berlin:20251128T220000
DTSTAMP:20260420T111223
CREATED:20251125T144120Z
LAST-MODIFIED:20251125T144517Z
UID:2474-1764345600-1764367200@hc-villingen.de
SUMMARY:HCV-Weihnachtsbudenzauber
DESCRIPTION:Die Weihnachtszeit beginnt und wir verwandeln das Clubhaus in einen Weihnachtsmarkt. Es gibt viele verschiedene Köstlichkeiten\, Glühwein\, Punsch\, Bastelaktionen und vieles mehr. Kommt vorbei und genießt den Start der Weihnachtszeit mit uns. Wir freuen uns auf euch!
URL:https://hc-villingen.de/event/hcv-weihnachtsbudenzauber/
LOCATION:Hockey-Club Villingen e.V.\, Im Friedengrund 7\, Villingen-Schwenningen\, 78050\, Germany
ATTACH;FMTTYPE=image/png:https://hc-villingen.de/wp-content/uploads/2025/11/2025_Weihnachtsbudenzauber-1.png
END:VEVENT
END:VCALENDAR