BEGIN:VCALENDAR
VERSION:2.0
PRODID:-//Hockey-Club Villingen e.V. - ECPv6.15.20//NONSGML v1.0//EN
CALSCALE:GREGORIAN
METHOD:PUBLISH
X-ORIGINAL-URL:https://hc-villingen.de
X-WR-CALDESC:Veranstaltungen für Hockey-Club Villingen e.V.
REFRESH-INTERVAL;VALUE=DURATION:PT1H
X-Robots-Tag:noindex
X-PUBLISHED-TTL:PT1H
BEGIN:VTIMEZONE
TZID:Europe/Berlin
BEGIN:DAYLIGHT
TZOFFSETFROM:+0100
TZOFFSETTO:+0200
TZNAME:CEST
DTSTART:20240331T010000
END:DAYLIGHT
BEGIN:STANDARD
TZOFFSETFROM:+0200
TZOFFSETTO:+0100
TZNAME:CET
DTSTART:20241027T010000
END:STANDARD
BEGIN:DAYLIGHT
TZOFFSETFROM:+0100
TZOFFSETTO:+0200
TZNAME:CEST
DTSTART:20250330T010000
END:DAYLIGHT
BEGIN:STANDARD
TZOFFSETFROM:+0200
TZOFFSETTO:+0100
TZNAME:CET
DTSTART:20251026T010000
END:STANDARD
BEGIN:DAYLIGHT
TZOFFSETFROM:+0100
TZOFFSETTO:+0200
TZNAME:CEST
DTSTART:20260329T010000
END:DAYLIGHT
BEGIN:STANDARD
TZOFFSETFROM:+0200
TZOFFSETTO:+0100
TZNAME:CET
DTSTART:20261025T010000
END:STANDARD
END:VTIMEZONE
BEGIN:VEVENT
DTSTART;TZID=Europe/Berlin:20251019T100000
DTEND;TZID=Europe/Berlin:20251019T130000
DTSTAMP:20260420T124812
CREATED:20250828T112933Z
LAST-MODIFIED:20250828T112933Z
UID:2178-1760868000-1760878800@hc-villingen.de
SUMMARY:Heimspieltag wU8 - Premiere
DESCRIPTION:Zum ersten Mal stellen wir zwei Mädels-Teams in der Altersklasse U8. Ihr Können zeigen die Mädels bei unserem Heimspieltag. Mit dabei sind Mannschaften aus Böblingen\, Riederich\, Konstanz\, Tuttlingen und Stuttgart. Los geht’s um 10 Uhr\, das Ende ist gegen 13 Uhr.
URL:https://hc-villingen.de/event/heimspieltag-wu8-premiere/
LOCATION:Hockey-Club Villingen e.V.\, Im Friedengrund 7\, Villingen-Schwenningen\, 78050\, Germany
ATTACH;FMTTYPE=image/webp:https://hc-villingen.de/wp-content/uploads/2025/08/250706_Hockey_U8_Heimspiel_554.webp
END:VEVENT
BEGIN:VEVENT
DTSTART;TZID=Europe/Berlin:20251027T160000
DTEND;TZID=Europe/Berlin:20251027T173000
DTSTAMP:20260420T124812
CREATED:20251020T095916Z
LAST-MODIFIED:20251020T100020Z
UID:2350-1761580800-1761586200@hc-villingen.de
SUMMARY:Schnuppertraining Jahrgänge 2015 - 2017
DESCRIPTION:Wir starten in die Hallensaison und bieten in den Herbstferien ein Schnuppertraining für die Jahrgänge 2015 – 2017 an.\nAnmeldung unter schnuppern@hc-villingen.de. \nWir freuen uns auf euch!
URL:https://hc-villingen.de/event/schnuppertraining-jahrgaenge-2015-2017/
LOCATION:Hoptbühlhalle\, Stationenweg 2\, VS-Villingen\, 78048\, Germany
ATTACH;FMTTYPE=image/png:https://hc-villingen.de/wp-content/uploads/2025/10/2025_HCV_Schnuppertraining-Herbstferien.png
END:VEVENT
END:VCALENDAR