BEGIN:VCALENDAR
VERSION:2.0
PRODID:-//Hockey-Club Villingen e.V. - ECPv6.15.20//NONSGML v1.0//EN
CALSCALE:GREGORIAN
METHOD:PUBLISH
X-ORIGINAL-URL:https://hc-villingen.de
X-WR-CALDESC:Veranstaltungen für Hockey-Club Villingen e.V.
REFRESH-INTERVAL;VALUE=DURATION:PT1H
X-Robots-Tag:noindex
X-PUBLISHED-TTL:PT1H
BEGIN:VTIMEZONE
TZID:UTC
BEGIN:STANDARD
TZOFFSETFROM:+0000
TZOFFSETTO:+0000
TZNAME:UTC
DTSTART:20240101T000000
END:STANDARD
END:VTIMEZONE
BEGIN:VTIMEZONE
TZID:Europe/Berlin
BEGIN:DAYLIGHT
TZOFFSETFROM:+0100
TZOFFSETTO:+0200
TZNAME:CEST
DTSTART:20240331T010000
END:DAYLIGHT
BEGIN:STANDARD
TZOFFSETFROM:+0200
TZOFFSETTO:+0100
TZNAME:CET
DTSTART:20241027T010000
END:STANDARD
BEGIN:DAYLIGHT
TZOFFSETFROM:+0100
TZOFFSETTO:+0200
TZNAME:CEST
DTSTART:20250330T010000
END:DAYLIGHT
BEGIN:STANDARD
TZOFFSETFROM:+0200
TZOFFSETTO:+0100
TZNAME:CET
DTSTART:20251026T010000
END:STANDARD
BEGIN:DAYLIGHT
TZOFFSETFROM:+0100
TZOFFSETTO:+0200
TZNAME:CEST
DTSTART:20260329T010000
END:DAYLIGHT
BEGIN:STANDARD
TZOFFSETFROM:+0200
TZOFFSETTO:+0100
TZNAME:CET
DTSTART:20261025T010000
END:STANDARD
END:VTIMEZONE
BEGIN:VEVENT
DTSTART;TZID=UTC:20250910T130000
DTEND;TZID=UTC:20250911T180000
DTSTAMP:20260420T142303
CREATED:20250728T104618Z
LAST-MODIFIED:20250828T112425Z
UID:2141-1757509200-1757613600@hc-villingen.de
SUMMARY:Sommercamp U8/U10
DESCRIPTION:Auch in diesem Jahr gibt es wieder unser Sommercamp für unsere Mitglieder.
URL:https://hc-villingen.de/event/sommercamp-u8-u10/
LOCATION:Hockey-Club Villingen e.V.\, Im Friedengrund 7\, Villingen-Schwenningen\, 78050\, Germany
ATTACH;FMTTYPE=image/png:https://hc-villingen.de/wp-content/uploads/2025/07/2025_HCV_Sommercamp_Einladung-kurz-U8_U10.png
END:VEVENT
BEGIN:VEVENT
DTSTART;TZID=UTC:20250912T130000
DTEND;TZID=UTC:20250914T140000
DTSTAMP:20260420T142303
CREATED:20250728T104856Z
LAST-MODIFIED:20250828T112415Z
UID:2146-1757682000-1757858400@hc-villingen.de
SUMMARY:Sommercamp ab U12
DESCRIPTION:Das Sommercamp für alle Mitglieder ab der U12 findet im Anschluss an das U8/U10-Lager statt.
URL:https://hc-villingen.de/event/sommercamp-ab-u12/
LOCATION:Hockey-Club Villingen e.V.\, Im Friedengrund 7\, Villingen-Schwenningen\, 78050\, Germany
ATTACH;FMTTYPE=image/png:https://hc-villingen.de/wp-content/uploads/2025/07/2025_HCV_Sommercamp_Einladung-kurz-U12.png
END:VEVENT
BEGIN:VEVENT
DTSTART;TZID=UTC:20250920T100000
DTEND;TZID=UTC:20250920T130000
DTSTAMP:20260420T142303
CREATED:20250728T103453Z
LAST-MODIFIED:20250828T112405Z
UID:2137-1758362400-1758373200@hc-villingen.de
SUMMARY:Heimspieltag unserer wU12
DESCRIPTION:Unsere wU12 steht derzeit mit zehn Punkten auf dem sechsten Tabellenplatz.  Um 10 Uhr geht’s gegen die Mannschaft der Stuttgarter Kickers\, um 12 Uhr geht’s gegen den HC Ludwigsburg 3.
URL:https://hc-villingen.de/event/heimspieltag-unserer-wu12/
LOCATION:Hockey-Club Villingen e.V.\, Im Friedengrund 7\, Villingen-Schwenningen\, 78050\, Germany
ATTACH;FMTTYPE=image/webp:https://hc-villingen.de/wp-content/uploads/2025/04/2025_wU12-scaled.webp
END:VEVENT
BEGIN:VEVENT
DTSTART;TZID=Europe/Berlin:20250921T100000
DTEND;TZID=Europe/Berlin:20250921T120000
DTSTAMP:20260420T142303
CREATED:20250828T111831Z
LAST-MODIFIED:20250828T112343Z
UID:2173-1758448800-1758456000@hc-villingen.de
SUMMARY:Heimspieltag unserer mU10 - Spielklasse 1
DESCRIPTION:Der vorletzte Spieltag der Feldrunde 2025 findet in den heimischen Gefilden des Friedengrundes statt.\nUnsere mU10 trifft um 10 Uhr auf Ulm\, um 10:45 Uhr auf Böblingen und um 11:30 Uhr auf den HC Ludwigsburg.\nAnfeuern erwünscht!
URL:https://hc-villingen.de/event/heimspieltag-unserer-mu10-spielklasse-1/
LOCATION:Hockey-Club Villingen e.V.\, Im Friedengrund 7\, Villingen-Schwenningen\, 78050\, Germany
END:VEVENT
BEGIN:VEVENT
DTSTART;TZID=UTC:20250927T130000
DTEND;TZID=UTC:20250927T143000
DTSTAMP:20260420T142303
CREATED:20250728T103031Z
LAST-MODIFIED:20250828T120320Z
UID:2135-1758978000-1758983400@hc-villingen.de
SUMMARY:Heimspiel mU14 vs. Aalen
DESCRIPTION:Die Jungs unserer mU14 treffen bei ihrem letzten Spiel auf Aalen. Los geht’s um 13 Uhr.
URL:https://hc-villingen.de/event/heimspiel-mu14-vs-aalen/
LOCATION:Hockey-Club Villingen e.V.\, Im Friedengrund 7\, Villingen-Schwenningen\, 78050\, Germany
END:VEVENT
BEGIN:VEVENT
DTSTART;TZID=Europe/Berlin:20250928T100000
DTEND;TZID=Europe/Berlin:20250928T120000
DTSTAMP:20260420T142303
CREATED:20250828T112152Z
LAST-MODIFIED:20250828T115919Z
UID:2176-1759053600-1759060800@hc-villingen.de
SUMMARY:Supersonntag: Heimspieltag mU10 - Spielklasse 2
DESCRIPTION:Am Supersonntag ist richtig was los im Friedengrund! Gleich drei Mannschaften des HCV werden sich duellieren.\nLos geht’s mit den U10er-Jungs in der Spielklasse 2. In der Partie um 10 Uhr treffen sie auf Tuttlingen\, um 10:45 Uhr geht’s gegen die direkten Nachbarn aus Schwenningen und um 11:30 Uhr steht die Mannschaft des HC Markdorf auf der Villinger Platte. Auch hier ist anfeuern ausdrücklich erwünscht. 🙂
URL:https://hc-villingen.de/event/heimspieltag-mu10-spielklasse-2/
LOCATION:Hockey-Club Villingen e.V.\, Im Friedengrund 7\, Villingen-Schwenningen\, 78050\, Germany
END:VEVENT
BEGIN:VEVENT
DTSTART;TZID=Europe/Berlin:20250928T140000
DTEND;TZID=Europe/Berlin:20250928T153000
DTSTAMP:20260420T142303
CREATED:20250828T115740Z
LAST-MODIFIED:20250828T120355Z
UID:2187-1759068000-1759073400@hc-villingen.de
SUMMARY:Supersonntag: Damen SG vs. HTC Stgt. Kickers 2
DESCRIPTION:2 von 3 von drei am Sonntag: Unser Damen SG Villingen/Konstanz trifft auf Stuttgart. Los geht’s um 14 Uhr.
URL:https://hc-villingen.de/event/damen-sg-vs-htc-stgt-kickers-2/
LOCATION:Hockey-Club Villingen e.V.\, Im Friedengrund 7\, Villingen-Schwenningen\, 78050\, Germany
ATTACH;FMTTYPE=image/webp:https://hc-villingen.de/wp-content/uploads/2025/04/Damen2.webp
END:VEVENT
BEGIN:VEVENT
DTSTART;TZID=Europe/Berlin:20250928T160000
DTEND;TZID=Europe/Berlin:20250928T173000
DTSTAMP:20260420T142303
CREATED:20250828T120252Z
LAST-MODIFIED:20250828T120407Z
UID:2191-1759075200-1759080600@hc-villingen.de
SUMMARY:Supersonntag: Herren vs. Bietigheimer HTC
DESCRIPTION:3 von 3. Den Abschluss des Supersonntags bildet unsere Herren SG Villingen/Schwenningen. Sie treffen auf die Mannschaft des Bietigheimer HTCs\, los geht’s um 16 Uhr.
URL:https://hc-villingen.de/event/herren-vs-bietigheimer-htc/
LOCATION:Hockey-Club Villingen e.V.\, Im Friedengrund 7\, Villingen-Schwenningen\, 78050\, Germany
ATTACH;FMTTYPE=image/jpeg:https://hc-villingen.de/wp-content/uploads/2025/08/1H2A6604.jpg
END:VEVENT
END:VCALENDAR