BEGIN:VCALENDAR
VERSION:2.0
PRODID:-//Hockey-Club Villingen e.V. - ECPv6.15.20//NONSGML v1.0//EN
CALSCALE:GREGORIAN
METHOD:PUBLISH
X-ORIGINAL-URL:https://hc-villingen.de
X-WR-CALDESC:Veranstaltungen für Hockey-Club Villingen e.V.
REFRESH-INTERVAL;VALUE=DURATION:PT1H
X-Robots-Tag:noindex
X-PUBLISHED-TTL:PT1H
BEGIN:VTIMEZONE
TZID:Europe/Berlin
BEGIN:DAYLIGHT
TZOFFSETFROM:+0100
TZOFFSETTO:+0200
TZNAME:CEST
DTSTART:20240331T010000
END:DAYLIGHT
BEGIN:STANDARD
TZOFFSETFROM:+0200
TZOFFSETTO:+0100
TZNAME:CET
DTSTART:20241027T010000
END:STANDARD
BEGIN:DAYLIGHT
TZOFFSETFROM:+0100
TZOFFSETTO:+0200
TZNAME:CEST
DTSTART:20250330T010000
END:DAYLIGHT
BEGIN:STANDARD
TZOFFSETFROM:+0200
TZOFFSETTO:+0100
TZNAME:CET
DTSTART:20251026T010000
END:STANDARD
BEGIN:DAYLIGHT
TZOFFSETFROM:+0100
TZOFFSETTO:+0200
TZNAME:CEST
DTSTART:20260329T010000
END:DAYLIGHT
BEGIN:STANDARD
TZOFFSETFROM:+0200
TZOFFSETTO:+0100
TZNAME:CET
DTSTART:20261025T010000
END:STANDARD
END:VTIMEZONE
BEGIN:VEVENT
DTSTART;TZID=Europe/Berlin:20250719T170000
DTEND;TZID=Europe/Berlin:20250719T190000
DTSTAMP:20260420T172632
CREATED:20250716T101839Z
LAST-MODIFIED:20250716T151630Z
UID:1830-1752944400-1752951600@hc-villingen.de
SUMMARY:Herren vs. VfB Stuttgart
DESCRIPTION:Letztes Spiel der Feldrunde 24/25. Unsere Herren könnten den Aufstieg in die 1. Verbandsliga schaffen\, sind aber auf Schützenhilfe von Tübingen angewiesen. Die spielen am Samstag nämlich gegen den Tabellenersten aus Esslingen. Die SGVS liegt auf Platz zwei – beide Mannschaften trennt nur ein Punkt.\nAuch die Esslinger wollen den Aufstieg perfekt machen. Das gelingt sicher bei einer Niederlage unserer Herren oder einem Sieg. Es wird also spannend!
URL:https://hc-villingen.de/event/herren-vs-vfb-stuttgart/
LOCATION:Hockey-Club Villingen e.V.\, Im Friedengrund 7\, Villingen-Schwenningen\, 78050\, Germany
ATTACH;FMTTYPE=image/jpeg:https://hc-villingen.de/wp-content/uploads/2025/07/1H2A6596.jpg
END:VEVENT
BEGIN:VEVENT
DTSTART;TZID=Europe/Berlin:20250725T170000
DTEND;TZID=Europe/Berlin:20250725T210000
DTSTAMP:20260420T172632
CREATED:20250716T094809Z
LAST-MODIFIED:20250716T102549Z
UID:1804-1753462800-1753477200@hc-villingen.de
SUMMARY:Schlenz & Grill Vol. 2
DESCRIPTION:Nach dem die erste Runde ein voller Erfolg war\, können wir es kaum erwarten in die Wiederholung zu gehen 🌞 Ihr auch? Kommt am 25.07. ab 17 Uhr zum nächsten Schlenz & Grill. \nWir schmeißen für alle\, die sich dem HCV verbunden fühlen\, den Grill an\, befüllen den Kühlschrank und zünden die Beats. In entspannter Atmosphäre wird gegrillt\, getrunken\, gechillt und wer Bock hat zockt sich warm zum Ferienstart! \nIhr müsst dafür lediglich euer Grillzeug mitbringen – wir kümmern uns um Grill\, Brot und Geschirr und unser Wirtsteam stellt die Getränke kalt. Zudem freuen wir uns über Salatspenden nach Lust & Laune. \nBitte beachtet\, dass die Aufsichtspflicht nach den Trainingseinheiten bei den Eltern liegt.
URL:https://hc-villingen.de/event/schlenz-n-grill-vol-2/
LOCATION:Hockey-Club Villingen e.V.\, Im Friedengrund 7\, Villingen-Schwenningen\, 78050\, Germany
ATTACH;FMTTYPE=image/jpeg:https://hc-villingen.de/wp-content/uploads/2025/07/IMG-20250712-WA0000.jpg
END:VEVENT
BEGIN:VEVENT
DTSTART;TZID=Europe/Berlin:20250726T110000
DTEND;TZID=Europe/Berlin:20250726T140000
DTSTAMP:20260420T172632
CREATED:20250716T100233Z
LAST-MODIFIED:20250716T112954Z
UID:1826-1753527600-1753538400@hc-villingen.de
SUMMARY:Heimspieltag mU12
DESCRIPTION:Showdowm im Friedengrund! Unsere U12er-Jungs laden zum Heimspieltag.  Erstes Spiel startet um 11 Uhr gegen den Karlsruher TV\, das zweite Spiel um 13 Uhr gegen HC Markdorf.
URL:https://hc-villingen.de/event/heimspieltag-mu12/
LOCATION:Hockey-Club Villingen e.V.\, Im Friedengrund 7\, Villingen-Schwenningen\, 78050\, Germany
ATTACH;FMTTYPE=image/webp:https://hc-villingen.de/wp-content/uploads/2025/04/2025_mU12-scaled.webp
END:VEVENT
END:VCALENDAR